BEGIN:VCALENDAR
VERSION:2.0
PRODID:-//Norbury Parish Council//Meeting Calendar//EN
CALSCALE:GREGORIAN
METHOD:PUBLISH
BEGIN:VEVENT
UID:70469-20250924@norburyparishcouncil.gov.uk
DTSTAMP:20260423T084628Z
DTSTART;VALUE=DATE:20250924
DTEND;VALUE=DATE:20250925
SUMMARY:Parish Council Meeting &#8211\\; 24 September 2025
DESCRIPTION:Full Council Meeting\nView details: https://norburyparishcouncil.gov.uk/meetings/parish-council-meeting-24-september-2025/
URL:https://norburyparishcouncil.gov.uk/meetings/parish-council-meeting-24-september-2025/
END:VEVENT
END:VCALENDAR
