BEGIN:VCALENDAR
VERSION:2.0
PRODID:-//Norbury Parish Council//Meeting Calendar//EN
CALSCALE:GREGORIAN
METHOD:PUBLISH
BEGIN:VEVENT
UID:70472-20250625@norburyparishcouncil.gov.uk
DTSTAMP:20260419T125809Z
DTSTART;VALUE=DATE:20250625
DTEND;VALUE=DATE:20250626
SUMMARY:Parish Council Meeting &#8211\\; 25 June 2025
DESCRIPTION:Full Council Meeting\nView details: https://norburyparishcouncil.gov.uk/meetings/parish-council-meeting-25-june-2025/
URL:https://norburyparishcouncil.gov.uk/meetings/parish-council-meeting-25-june-2025/
END:VEVENT
END:VCALENDAR
