BEGIN:VCALENDAR
VERSION:2.0
PRODID:-//Norbury Parish Council//Meeting Calendar//EN
CALSCALE:GREGORIAN
METHOD:PUBLISH
BEGIN:VEVENT
UID:70477-20251029@norburyparishcouncil.gov.uk
DTSTAMP:20260419T124107Z
DTSTART;VALUE=DATE:20251029
DTEND;VALUE=DATE:20251030
SUMMARY:Parish Council Meeting &#8211\\; 29 October 2025
DESCRIPTION:Full Council Meeting\nView details: https://norburyparishcouncil.gov.uk/meetings/parish-council-meeting-29-october-2025/
URL:https://norburyparishcouncil.gov.uk/meetings/parish-council-meeting-29-october-2025/
END:VEVENT
END:VCALENDAR
