BEGIN:VCALENDAR
VERSION:2.0
PRODID:-//Norbury Parish Council//Meeting Calendar//EN
CALSCALE:GREGORIAN
METHOD:PUBLISH
BEGIN:VEVENT
UID:70504-20250522@norburyparishcouncil.gov.uk
DTSTAMP:20260419T170223Z
DTSTART;VALUE=DATE:20250522
DTEND;VALUE=DATE:20250523
SUMMARY:Annual Parish Meeting &#8211\\; 22 May 2025
DESCRIPTION:Annual Parish Meeting\nView details: https://norburyparishcouncil.gov.uk/meetings/annual-parish-meeting-22-may-2025/
URL:https://norburyparishcouncil.gov.uk/meetings/annual-parish-meeting-22-may-2025/
END:VEVENT
END:VCALENDAR
