BEGIN:VCALENDAR
VERSION:2.0
PRODID:-//Norbury Parish Council//Meeting Calendar//EN
CALSCALE:GREGORIAN
METHOD:PUBLISH
BEGIN:VEVENT
UID:70519-20230101@norburyparishcouncil.gov.uk
DTSTAMP:20260419T182558Z
DTSTART;VALUE=DATE:20230101
DTEND;VALUE=DATE:20230102
SUMMARY:Annual Parish Council Meeting &#8211\\; 24 May 2023
DESCRIPTION:Annual Parish Meeting\nView details: https://norburyparishcouncil.gov.uk/meetings/annual-parish-council-meeting-24-may-2023/
URL:https://norburyparishcouncil.gov.uk/meetings/annual-parish-council-meeting-24-may-2023/
END:VEVENT
END:VCALENDAR
