BEGIN:VCALENDAR
VERSION:2.0
PRODID:-//Norbury Parish Council//Meeting Calendar//EN
CALSCALE:GREGORIAN
METHOD:PUBLISH
BEGIN:VEVENT
UID:70526-20240522@norburyparishcouncil.gov.uk
DTSTAMP:20260419T170953Z
DTSTART;VALUE=DATE:20240522
DTEND;VALUE=DATE:20240523
SUMMARY:Annual Council Meeting &#8211\\; 22 May 2024
DESCRIPTION:Annual Parish Meeting\nView details: https://norburyparishcouncil.gov.uk/meetings/annual-council-meeting-22-may-2024/
URL:https://norburyparishcouncil.gov.uk/meetings/annual-council-meeting-22-may-2024/
END:VEVENT
END:VCALENDAR
